BEGIN:VCALENDAR
VERSION:2.0
PRODID:-//ChamberMaster//Event Calendar 2.0//EN
METHOD:PUBLISH
X-PUBLISHED-TTL:P3D
REFRESH-INTERVAL:P3D
CALSCALE:GREGORIAN
BEGIN:VEVENT
DTSTART:20201020T140000Z
DTEND:20201020T150000Z
X-MICROSOFT-CDO-ALLDAYEVENT:FALSE
SUMMARY:Virtual Member Meet Up
DESCRIPTION:Join us for our next Virtual Member Meet Up\n\n\n\nNow every other Tuesday morning at 10 am\, this will be a way for us to stay connected while we can't network in person.
X-ALT-DESC;FMTTYPE=text/html:Join us for our next Virtual Member Meet Up<br />\n<br />\nNow every other Tuesday morning at 10 am\, this will be a way for us to stay connected while we can&#39\;t network in person.<br />\n&nbsp\;
LOCATION:Zoom
UID:e.2872.7806
SEQUENCE:3
DTSTAMP:20260420T114927Z
URL:https://business.greaterbinghamtonchamber.com/events/details/virtual-member-meet-up-7806
END:VEVENT

END:VCALENDAR
