BEGIN:VCALENDAR
VERSION:2.0
PRODID:-//ChamberMaster//Event Calendar 2.0//EN
METHOD:PUBLISH
X-PUBLISHED-TTL:P3D
REFRESH-INTERVAL:P3D
CALSCALE:GREGORIAN
BEGIN:VEVENT
DTSTART:20200913T130000Z
DTEND:20200913T180000Z
X-MICROSOFT-CDO-ALLDAYEVENT:FALSE
SUMMARY:The Cutler Flea
DESCRIPTION:A indoor market of vibrant shopping with quality antiques & vintage collectible dealers\, talented craft-makers and select artisanal food & beverage entrepreneurs. Free Admission- Rain or Shine
X-ALT-DESC;FMTTYPE=text/html:A indoor market of vibrant shopping with quality antiques &amp\; vintage collectible dealers\, talented craft-makers and select artisanal food &amp\; beverage entrepreneurs. Free Admission- Rain or Shine
LOCATION:Broome County Regional Farmers Market
UID:e.2872.7757
SEQUENCE:3
DTSTAMP:20260420T143251Z
URL:https://business.greaterbinghamtonchamber.com/events/details/the-cutler-flea-09-13-2020-7757
END:VEVENT

END:VCALENDAR
