BEGIN:VCALENDAR
VERSION:2.0
PRODID:-//ChamberMaster//Event Calendar 2.0//EN
METHOD:PUBLISH
X-PUBLISHED-TTL:P3D
REFRESH-INTERVAL:P3D
CALSCALE:GREGORIAN
BEGIN:VEVENT
DTSTART:20210520T150000Z
DTEND:20210520T160000Z
X-MICROSOFT-CDO-ALLDAYEVENT:FALSE
SUMMARY:The Business Council Webinar: Annual Harassment Training
DESCRIPTION:As a member of the Chamber\, you can save $50 off any of The Business Council of New York State's webinars with the promo code AC023.\n\n\n\nWebinar Description:\n\nThis one hour webinar is intended to provide individuals responsible for providing training the tools and strategies necessary to deliver a training program that meets NYS guidelines as defined in the new sexual harassment laws effective October 2019. We will also cover requirements related to the development and communication of the required sexual harassment policy.
X-ALT-DESC;FMTTYPE=text/html:As a member of the Chamber\, you can save $50 off any of The Business Council of New York State&#39\;s webinars with the promo code <strong>AC023</strong>.<br />\n<br />\nWebinar Description:<br />\nThis one hour webinar is intended to provide individuals responsible for providing training the tools and strategies necessary to deliver a training program that meets NYS guidelines as defined in the new sexual harassment laws effective October 2019. We will also cover requirements related to the development and communication of the required sexual harassment policy.
LOCATION:
UID:e.2872.7896
SEQUENCE:3
DTSTAMP:20260422T115728Z
URL:https://business.greaterbinghamtonchamber.com/events/details/the-business-council-webinar-annual-harassment-training-7896
END:VEVENT

END:VCALENDAR
