BEGIN:VCALENDAR
VERSION:2.0
PRODID:-//ChamberMaster//Event Calendar 2.0//EN
METHOD:PUBLISH
X-PUBLISHED-TTL:P3D
REFRESH-INTERVAL:P3D
CALSCALE:GREGORIAN
BEGIN:VEVENT
DTSTART:20200227T213000Z
DTEND:20200228T000000Z
X-MICROSOFT-CDO-ALLDAYEVENT:FALSE
SUMMARY:STEAM Pathways Evening
DESCRIPTION:This event will be geared toward students (grades 7-12)\, their parents\, and educators to:\n\n\n	Learn more about career pathways in the STEAM fields (Science\, Technology\, Engineering\, Arts\, and Math)\n	Encourage them to "keep their options open" by not opting out of challenging math and science courses in high school and beyond\n	Inspire them to learn higher-level thinking skills\, and \n	Help them be successful in the workforce of the future   ..whatever that will look like.
X-ALT-DESC;FMTTYPE=text/html:<div>This event will be geared toward students (grades 7-12)\, their parents\, and educators to:</div>\n\n<ul>\n	<li>Learn more about career pathways in the STEAM fields (Science\, Technology\, Engineering\, Arts\, and Math)</li>\n	<li>Encourage them to &ldquo\;keep their options open&rdquo\; by not opting out of challenging math and science courses in high school and beyond</li>\n	<li>Inspire them to learn higher-level thinking skills\, and&nbsp\;</li>\n	<li>Help them be successful in the workforce of the future&hellip\;&hellip\;&hellip\;..whatever that will look like.</li>\n</ul>\n
LOCATION:Binghamton University Innovative Technologies Complex
UID:e.2872.6073
SEQUENCE:3
DTSTAMP:20260423T181934Z
URL:https://business.greaterbinghamtonchamber.com/events/details/steam-pathways-evening-6073
END:VEVENT

END:VCALENDAR
