BEGIN:VCALENDAR
VERSION:2.0
PRODID:-//ChamberMaster//Event Calendar 2.0//EN
METHOD:PUBLISH
X-PUBLISHED-TTL:P3D
REFRESH-INTERVAL:P3D
CALSCALE:GREGORIAN
BEGIN:VEVENT
DTSTART:20190307T210000Z
DTEND:20190308T000000Z
X-MICROSOFT-CDO-ALLDAYEVENT:FALSE
SUMMARY:STEAM Pathways
DESCRIPTION:This event is geared towards students (grades 7-12)\, their parents\, and educators to:\n  Learn more about career pathways in the STEAM fields (Science\, Technology\, Engineering\, Arts\, and Math)\n\n  Encourage them to "keep their options open" by not opting out of challenging math and science courses in high school and beyond\n\n  Inspire them to learn higher-level thinking skills\, and \n\n  Help them be successful in the workforce of the future...whatever that will look like.
X-ALT-DESC;FMTTYPE=text/html:This event is geared towards students (grades 7-12)\, their parents\, and educators to:\n<div>&bull\;<span style="white-space:pre"> </span>Learn more about career pathways in the STEAM fields (Science\, Technology\, Engineering\, Arts\, and Math)</div>\n\n<div>&bull\;<span style="white-space:pre"> </span>Encourage them to &ldquo\;keep their options open&rdquo\; by not opting out of challenging math and science courses in high school and beyond</div>\n\n<div>&bull\;<span style="white-space:pre"> </span>Inspire them to learn higher-level thinking skills\, and&nbsp\;</div>\n\n<div>&bull\;<span style="white-space:pre"> </span>Help them be successful in the workforce of the future...whatever that will look like.</div>\n
LOCATION:Binghamton University Innovative Technologies Complex 85 Murray Hill Rd Vestal\, NY
UID:e.2872.3475
SEQUENCE:3
DTSTAMP:20260422T163458Z
URL:https://business.greaterbinghamtonchamber.com/events/details/steam-pathways-3475
END:VEVENT

END:VCALENDAR
