BEGIN:VCALENDAR
VERSION:2.0
PRODID:-//ChamberMaster//Event Calendar 2.0//EN
METHOD:PUBLISH
X-PUBLISHED-TTL:P3D
REFRESH-INTERVAL:P3D
CALSCALE:GREGORIAN
BEGIN:VEVENT
DTSTART:20190605T113000Z
DTEND:20190606T003000Z
X-MICROSOFT-CDO-ALLDAYEVENT:FALSE
SUMMARY:SOLD OUT! - Chamber Classic Golf Tournament 2019
DESCRIPTION:If you purchased a Tee/Green sign please email your logo to Cassie at cassie@visitbinghamton.org. \n\n\n\nAttention: All teams are now sold out! Thank you to all who are participating this year!!
X-ALT-DESC;FMTTYPE=text/html:If you purchased a Tee/Green sign please email your logo to Cassie at <a href="mailto:cassie@visitbinghamton.org?subject=Tee%20Sign%20Logo">cassie@visitbinghamton.org</a>.&nbsp\;<br />\n<br />\n<span style="font-size:16px\;"><strong>Attention: All teams are now sold out! Thank you to all who are participating this year!!</strong></span>
LOCATION:En-Joie Golf Club 722 W. Main St. Endicott\, NY 13760
UID:e.2872.3447
SEQUENCE:3
DTSTAMP:20260424T080629Z
URL:https://business.greaterbinghamtonchamber.com/events/details/sold-out-chamber-classic-golf-tournament-2019-3447
END:VEVENT

END:VCALENDAR
