BEGIN:VCALENDAR
VERSION:2.0
PRODID:-//ChamberMaster//Event Calendar 2.0//EN
METHOD:PUBLISH
X-PUBLISHED-TTL:P3D
REFRESH-INTERVAL:P3D
CALSCALE:GREGORIAN
BEGIN:VEVENT
DTSTART:20220911T190000Z
DTEND:20220911T210000Z
X-MICROSOFT-CDO-ALLDAYEVENT:FALSE
SUMMARY:Season Preview Recital and Fundraiser
DESCRIPTION:Join Binghamton Philharmonic Concertmaster Uli Speth and Philharmonic Pianist Tomoko Kanamaru in a Season Preview Recital. Featuring works from Beethoven to Gershwin\, the program was created to reflect our 2022-2023 Season programming while also showcasing Uli Speth\, violin soloist for "Green Places\," November 12\, 2022. This event is also a fundraiser for the Binghamton Philharmonic and will include a festive basket raffle and elegant reception featuring Desserts by Jacqueline. Come join us as we celebrate a new season of symphonic music in Binghamton! Sponsored by Garufi Law P.C. Sonata in E-flat Major\, Opus 12\, No. 3: Ludwig van Beethoven (1770-1827) Sonata No. 2\, Opus 63 "September 11" (2001): Lera Auerbach (b. 1973) L' Alouette (The Lark): Mikhail Glinka (1804-1857) Solvejgs Lied: Edvard Grieg (1843-1907) Souvenir d'un lieu cher\, Opus. 42: Pyotr Ilyich Tchaikovsky (1840-1893) The Second Waltz: Dmitri Shostakovich (1906-1975) "Somewhere" from West Side Story: Leonard Bernstein (1918-1900) Porgy and Bess: George Gershwin (1898-1937)
X-ALT-DESC;FMTTYPE=text/html:Join Binghamton Philharmonic Concertmaster Uli Speth and Philharmonic Pianist Tomoko Kanamaru in a Season Preview Recital. Featuring works from Beethoven to Gershwin\, the program was created to reflect our 2022-2023 Season programming while also showcasing Uli Speth\, violin soloist for &quot\;Green Places\,&quot\; November 12\, 2022. This event is also a fundraiser for the Binghamton Philharmonic and will include a festive basket raffle and elegant reception featuring Desserts by Jacqueline. Come join us as we celebrate a new season of symphonic music in Binghamton! Sponsored by Garufi Law P.C. Sonata in E-flat Major\, Opus 12\, No. 3: Ludwig van Beethoven (1770-1827) Sonata No. 2\, Opus 63 &ldquo\;September 11&rdquo\; (2001): Lera Auerbach (b. 1973) L&rsquo\; Alouette (The Lark): Mikhail Glinka (1804-1857) Solvejgs Lied: Edvard Grieg (1843-1907) Souvenir d&#39\;un lieu cher\, Opus. 42: Pyotr Ilyich Tchaikovsky (1840-1893) The Second Waltz: Dmitri Shostakovich (1906-1975) &ldquo\;Somewhere&rdquo\; from West Side Story: Leonard Bernstein (1918-1900) Porgy and Bess: George Gershwin (1898-1937)
LOCATION:Phelps Mansion and Museum
UID:e.2872.8833
SEQUENCE:3
DTSTAMP:20260422T214602Z
URL:https://business.greaterbinghamtonchamber.com/events/details/season-preview-recital-and-fundraiser-8833
END:VEVENT

END:VCALENDAR
