BEGIN:VCALENDAR
VERSION:2.0
PRODID:-//ChamberMaster//Event Calendar 2.0//EN
METHOD:PUBLISH
X-PUBLISHED-TTL:P3D
REFRESH-INTERVAL:P3D
CALSCALE:GREGORIAN
BEGIN:VEVENT
DTSTART:20240403T220000Z
DTEND:20240523T000000Z
X-MICROSOFT-CDO-ALLDAYEVENT:FALSE
SUMMARY:PS It Works Parenting Classes
DESCRIPTION:This Cornell Cooperative Extension research-based series will cover topics such as choices\, can do\, shared decision making and self-control. This is geared towards parents/caregivers raising children between the ages of 2 -18 years. A certificate of completion is given at the end of the series.
X-ALT-DESC;FMTTYPE=text/html:This Cornell Cooperative Extension research-based series will cover topics such as choices\, can do\, shared decision making and self-control. This is geared towards parents/caregivers raising children between the ages of 2 -18 years. A certificate of completion is given at the end of the series.
LOCATION:Church of the Nazarene\, 3732 Waverly Road. Owego NY
UID:e.2872.10055
SEQUENCE:3
DTSTAMP:20260420T220800Z
URL:https://business.greaterbinghamtonchamber.com/events/details/ps-it-works-parenting-classes-10055
END:VEVENT

END:VCALENDAR
