BEGIN:VCALENDAR
VERSION:2.0
PRODID:-//ChamberMaster//Event Calendar 2.0//EN
METHOD:PUBLISH
X-PUBLISHED-TTL:P3D
REFRESH-INTERVAL:P3D
CALSCALE:GREGORIAN
BEGIN:VEVENT
DTSTART:20180112T003000Z
DTEND:20180121T200000Z
X-MICROSOFT-CDO-ALLDAYEVENT:FALSE
SUMMARY:Million Dollar Quartet
DESCRIPTION:Musical\; Book by Floyd Mutrux & Colin Escott\; Music by Elvis Presley\, Jerry Lee Lewis\, Johnny Cash & Carl Perkins Another new title just recently released to regional theaters\, we are proud to produce the regional premiere. The Tony  Award Winning musical\, Million Dollar Quartet is set on December 4\, 1956\, when an extraordinary twist of fate brought Johnny Cash\, Jerry Lee Lewis\, Carl Perkins and Elvis Presley together at Sun Records in Memphis for what would be one of the greatest jam sessions ever. The show brings that legendary December night to life with an irresistible tale of broken promises\, secrets\, betrayal and celebrations that is both poignant and funny. Relive the era with the smash-hit sensation featuring an incredible score of rock 'n' roll\, gospel\, R&B and country hits\, performed live onstage by world-class actors and musicians. Showcased hit songs include: "Blue Suede Shoes\," "Fever\," "Walk the Line\," "Sixteen Tons\," "Who Do You Love?\," "Great Balls of Fire\," "Folsom Prison Blues\," "Whole Lotta Shakin' Goin' On\," "Hound Dog\," and more.
X-ALT-DESC;FMTTYPE=text/html:Musical\; Book by Floyd Mutrux &amp\; Colin Escott\; Music by Elvis Presley\, Jerry Lee Lewis\, Johnny Cash &amp\; Carl Perkins Another new title just recently released to regional theaters\, we are proud to produce the regional premiere. The Tony&reg\; Award Winning musical\, Million Dollar Quartet is set on December 4\, 1956\, when an extraordinary twist of fate brought Johnny Cash\, Jerry Lee Lewis\, Carl Perkins and Elvis Presley together at Sun Records in Memphis for what would be one of the greatest jam sessions ever. The show brings that legendary December night to life with an irresistible tale of broken promises\, secrets\, betrayal and celebrations that is both poignant and funny. Relive the era with the smash-hit sensation featuring an incredible score of rock &lsquo\;n&rsquo\; roll\, gospel\, R&amp\;B and country hits\, performed live onstage by world-class actors and musicians. Showcased hit songs include: &ldquo\;Blue Suede Shoes\,&rdquo\; &ldquo\;Fever\,&rdquo\; &ldquo\;Walk the Line\,&rdquo\; &ldquo\;Sixteen Tons\,&rdquo\; &ldquo\;Who Do You Love?\,&rdquo\; &ldquo\;Great Balls of Fire\,&rdquo\; &ldquo\;Folsom Prison Blues\,&rdquo\; &ldquo\;Whole Lotta Shakin&rsquo\; Goin&rsquo\; On\,&rdquo\; &ldquo\;Hound Dog\,&rdquo\; and more.
LOCATION:Cider Mill Playhouse
UID:e.2872.2868
SEQUENCE:3
DTSTAMP:20260424T121809Z
URL:https://business.greaterbinghamtonchamber.com/events/details/million-dollar-quartet-2868
END:VEVENT

END:VCALENDAR
