BEGIN:VCALENDAR
VERSION:2.0
PRODID:-//ChamberMaster//Event Calendar 2.0//EN
METHOD:PUBLISH
X-PUBLISHED-TTL:P3D
REFRESH-INTERVAL:P3D
CALSCALE:GREGORIAN
BEGIN:VEVENT
DTSTART:20240222T210000Z
DTEND:20240223T000000Z
X-MICROSOFT-CDO-ALLDAYEVENT:FALSE
SUMMARY:Markets of Broome: Sweets & Treats Market
DESCRIPTION:Markets of Broome is bringing together the best of local bakers\, pastry chefs\, and confectionary artists. Guests will have the opportunity to taste and purchase a wide variety of goodies\, from traditional baked goods to innovative sweets.
X-ALT-DESC;FMTTYPE=text/html:Markets of Broome is bringing together the best of local bakers\, pastry chefs\, and confectionary artists. Guests will have the opportunity to taste and purchase a wide variety of goodies\, from traditional baked goods to innovative sweets.
LOCATION:Broome County Regional Farmers Market
UID:e.2872.10017
SEQUENCE:3
DTSTAMP:20260422T122159Z
URL:https://business.greaterbinghamtonchamber.com/events/details/markets-of-broome-sweets-treats-market-10017
END:VEVENT

END:VCALENDAR
