BEGIN:VCALENDAR
VERSION:2.0
PRODID:-//ChamberMaster//Event Calendar 2.0//EN
METHOD:PUBLISH
X-PUBLISHED-TTL:P3D
REFRESH-INTERVAL:P3D
CALSCALE:GREGORIAN
BEGIN:VEVENT
DTSTART:20250521T213000Z
DTEND:20250521T233000Z
X-MICROSOFT-CDO-ALLDAYEVENT:FALSE
SUMMARY:Literacy Day at the J
DESCRIPTION:This year's theme is "Fairy Tales and Fables: Timeless Tales and Endless Adventures"   and we can't wait to celebrate with you! This FREE community event is open to ALL   families\, friends\, and little learners of every age! There's something for everyone: ?? Story Readings ?? STEAM Exploration ?? Music + Movement ?? Hands-on Activities ?? Infant + Toddler Play Areas ?? Dramatic Play ?? Community Vendors And of course\, DJ Harry keeping the energy high!
X-ALT-DESC;FMTTYPE=text/html:This year&#39\;s theme is &quot\;Fairy Tales and Fables: Timeless Tales and Endless Adventures&quot\; &mdash\; and we can&#39\;t wait to celebrate with you! This FREE community event is open to ALL &mdash\; families\, friends\, and little learners of every age! There&#39\;s something for everyone: ?? Story Readings ?? STEAM Exploration ?? Music + Movement ?? Hands-on Activities ?? Infant + Toddler Play Areas ?? Dramatic Play ?? Community Vendors And of course\, DJ Harry keeping the energy high!
LOCATION:Binghamton JCC 500 Clubhouse Road Vestal\, New York 13850
UID:e.2872.10595
SEQUENCE:3
DTSTAMP:20260420T083954Z
URL:https://business.greaterbinghamtonchamber.com/events/details/literacy-day-at-the-j-10595
END:VEVENT

END:VCALENDAR
