BEGIN:VCALENDAR
VERSION:2.0
PRODID:-//ChamberMaster//Event Calendar 2.0//EN
METHOD:PUBLISH
X-PUBLISHED-TTL:P3D
REFRESH-INTERVAL:P3D
CALSCALE:GREGORIAN
BEGIN:VEVENT
DTSTART;VALUE=DATE:20181127
DTEND;VALUE=DATE:20181228
TRANSP:TRANSPARENT
X-MICROSOFT-CDO-ALLDAYEVENT:TRUE
SUMMARY:Donate to GBEOP
DESCRIPTION:The Greater Binghamton Education Outreach Program's mission is to connect business and education within the Greater Binghamton community to develop and inspire a dynamic workforce.\n\n\n\nGBEOP's goal is to help create a "talent pipeline" in our community through a business-education partnership.  GBEOP recognizes that there is a link between workforce preparedness and our area's economic competitiveness.  This school year GBEOP is launching programming designed to:\n\n	Expose students to career paths available in Broome County\n	Showcase that students can have a good job and a good life in Broome County\n	Increase awareness for parents about available career paths and outlook for these careers\n	Connect students to career exploration opportunities\, even seasonal or part-time employment\n\n\nDonate today to help grow tomorrow's leaders!
X-ALT-DESC;FMTTYPE=text/html:<span style="font-size:12px\;"><span style="font-family:arial\;">The Greater Binghamton Education Outreach Program&#39\;s mission is to connect business and education within the Greater Binghamton community to develop and inspire a dynamic workforce.<br />\n<br />\nGBEOP&rsquo\;s goal is to help create a &ldquo\;talent pipeline&rdquo\; in our community through a business-education partnership.&nbsp\; GBEOP recognizes that there is a link between workforce preparedness and our area&rsquo\;s economic competitiveness.&nbsp\;&nbsp\;<span style="color:#202020\;">This school year GBEOP is launching programming designed to:</span></span></span>\n<ul>\n	<li style="color:#202020\;line-height:150%\;-ms-text-size-adjust:100%\;-webkit-text-size-adjust:100%\;"><span style="font-size:12px\;"><span style="font-family:arial\;">Expose students to career paths available in Broome County</span></span></li>\n	<li style="color:#202020\;line-height:150%\;-ms-text-size-adjust:100%\;-webkit-text-size-adjust:100%\;"><span style="font-size:12px\;"><span style="font-family:arial\;">Showcase that students can have a good job and a good life in Broome County</span></span></li>\n	<li style="color:#202020\;line-height:150%\;-ms-text-size-adjust:100%\;-webkit-text-size-adjust:100%\;"><span style="font-size:12px\;"><span style="font-family:arial\;">Increase awareness for parents about available career paths&nbsp\;and outlook for these careers</span></span></li>\n	<li style="color:#202020\;line-height:150%\;-ms-text-size-adjust:100%\;-webkit-text-size-adjust:100%\;"><span style="font-size:12px\;"><span style="font-family:arial\;">Connect students to career exploration opportunities\, even seasonal or part-time employment</span></span></li>\n</ul>\n\n<div style="color:#202020\;line-height:150%\;-ms-text-size-adjust:100%\;-webkit-text-size-adjust:100%\;"><span style="font-size:12px\;"><span style="font-family:arial\;">Donate today to help grow tomorrow&#39\;s leaders!</span></span></div>\n
LOCATION:
UID:e.2872.3397
SEQUENCE:3
DTSTAMP:20260424T144535Z
URL:https://business.greaterbinghamtonchamber.com/events/details/donate-to-gbeop-3397
END:VEVENT

END:VCALENDAR
