BEGIN:VCALENDAR
VERSION:2.0
PRODID:-//ChamberMaster//Event Calendar 2.0//EN
METHOD:PUBLISH
X-PUBLISHED-TTL:P3D
REFRESH-INTERVAL:P3D
CALSCALE:GREGORIAN
BEGIN:VEVENT
DTSTART:20241017T154500Z
DTEND:20241017T171500Z
X-MICROSOFT-CDO-ALLDAYEVENT:FALSE
SUMMARY:Connect Over Lunch October 2024
DESCRIPTION:The Chamber's Connect Over Lunch is a popular networking event that takes place on the second Thursday of each month at various locations throughout the community.\n\n\n\nPLEASE NOTE DATE CHANGE FOR THIS LUNCH-THURSDAY\, OCTOBER 17\n\n \n\nPlease contact us for special dietary restrictions!
X-ALT-DESC;FMTTYPE=text/html:<div style="color: rgb(51\, 51\, 51)\; font-family: sans-serif\, Arial\, Verdana\, &quot\;Trebuchet MS&quot\;\;">\n<div style="font-size: 13px\;"><span style="font-size: 18px\;"><span style="font-family: arial\;"><font color="#167378">The Chamber&#39\;s Connect Over Lunch is a&nbsp\;popular networking event&nbsp\;that takes place on the second Thursday of each month at various locations throughout the community.<br />\n<br />\nPLEASE NOTE DATE CHANGE FOR THIS LUNCH-THURSDAY\, OCTOBER 17</font></span></span></div>\n\n<div style="font-size: 13px\;">&nbsp\;</div>\n\n<div style=""><span style="font-size: 18px\;"><span style="font-family: arial\;"><font color="#167378">Please contact us for special dietary restrictions!</font></span></span></div>\n</div>\n
LOCATION:CopperTop Tavern 4700 Vestal Parkway Vestal\, NY
UID:e.2872.10421
SEQUENCE:3
DTSTAMP:20260423T172034Z
URL:https://business.greaterbinghamtonchamber.com/events/details/connect-over-lunch-october-2024-10421
END:VEVENT

END:VCALENDAR
