BEGIN:VCALENDAR
VERSION:2.0
PRODID:-//ChamberMaster//Event Calendar 2.0//EN
METHOD:PUBLISH
X-PUBLISHED-TTL:P3D
REFRESH-INTERVAL:P3D
CALSCALE:GREGORIAN
BEGIN:VEVENT
DTSTART:20230112T164500Z
DTEND:20230112T181500Z
X-MICROSOFT-CDO-ALLDAYEVENT:FALSE
SUMMARY:Connect Over Lunch January 2023 Sponsored by Suburban Propane
DESCRIPTION:The Chamber's Connect Over Lunch is a popular networking event that takes place on the second Thursday of each month at various locations throughout the community.\n\n \n\nThese luncheons give members an opportunity to network\, display literature\, and give a brief introduction to the entire group!
X-ALT-DESC;FMTTYPE=text/html:<div style="color: rgb(51\, 51\, 51)\; font-family: sans-serif\, Arial\, Verdana\, &quot\;Trebuchet MS&quot\;\;">\n<div style="font-size: 13px\;"><span style="font-size: 18px\;"><span style="font-family: arial\;"><font color="#167378">The Chamber&#39\;s Connect Over Lunch is a&nbsp\;popular networking event&nbsp\;that takes place on the second Thursday of each month at various locations throughout the community.</font></span></span></div>\n\n<div style="font-size: 13px\;">&nbsp\;</div>\n\n<div style=""><span style="font-size: 18px\;"><span style="font-family: arial\;"><font color="#167378">These luncheons give&nbsp\;members an opportunity to network\, display literature\, and give a brief introduction to the entire group!</font></span></span></div>\n</div>\n
LOCATION:Phelps Mansion Museum 191 Court Street Binghamton NY 13901
UID:e.2872.8949
SEQUENCE:3
DTSTAMP:20260422T233234Z
URL:https://business.greaterbinghamtonchamber.com/events/details/connect-over-lunch-january-2023-sponsored-by-suburban-propane-8949
END:VEVENT

END:VCALENDAR
