BEGIN:VCALENDAR
VERSION:2.0
PRODID:-//ChamberMaster//Event Calendar 2.0//EN
METHOD:PUBLISH
X-PUBLISHED-TTL:P3D
REFRESH-INTERVAL:P3D
CALSCALE:GREGORIAN
BEGIN:VEVENT
DTSTART:20200312T210000Z
DTEND:20200312T230000Z
X-MICROSOFT-CDO-ALLDAYEVENT:FALSE
SUMMARY:Broome Women Lead: Pre-Spring Fling & Dance Party
DESCRIPTION:Broome Women Lead invites you to celebrate Spring early! Bring your dancing shoes and enjoy a night of great dance music\, complimentary hors d'oeurves and a cash bar!\n\n\n\n\n\nBroome Women Lead - a community of women from all backgrounds\, all generations\, and all walks of life coming together\, supporting one another\, empowered to take our place as leaders in our communities\, our professions\, our schools\, and our own personal spheres of influence.
X-ALT-DESC;FMTTYPE=text/html:Broome Women Lead invites you to celebrate Spring early! Bring your dancing shoes and enjoy a night of great dance music\, complimentary hors d&#39\;oeurves and a cash bar!<br />\n<br />\n<br />\nBroome Women Lead - a community of women from all backgrounds\, all generations\, and all walks of life coming together\, supporting one another\, empowered to take our place as leaders in our communities\, our professions\, our schools\, and our own personal spheres of influence.
LOCATION:Schorr Family Firehouse Stage Catered by P.S. Restaurant
UID:e.2872.7216
SEQUENCE:3
DTSTAMP:20260424T105116Z
URL:https://business.greaterbinghamtonchamber.com/events/details/broome-women-lead-pre-spring-fling-dance-party-7216
END:VEVENT

END:VCALENDAR
