BEGIN:VCALENDAR
VERSION:2.0
PRODID:-//ChamberMaster//Event Calendar 2.0//EN
METHOD:PUBLISH
X-PUBLISHED-TTL:P3D
REFRESH-INTERVAL:P3D
CALSCALE:GREGORIAN
BEGIN:VEVENT
DTSTART:20210325T220000Z
DTEND:20210326T000000Z
X-MICROSOFT-CDO-ALLDAYEVENT:FALSE
SUMMARY:BLI Graduation Banquet 2021
DESCRIPTION:The Greater Binghamton Education Outreach Program (GBEOP) will be holding the Graduation for the Broome Leadership Institute Class of 2021 at the Binghamton Country Club\, 1401 Robinson Hill Rd\, Endwell\, on Thursday\, March 25th from 6 PM - 9 PM.   Due to NYS restrictions\, the in-person graduation will be limited to BLI Graduates and one guest. The event will be live streamed at 7:15 PM via the Greater Binghamton Chamber's Facebook page.\n\n\n\n\n\nClass members RSVP to events@greaterbinghamtonchamber.com or (607) 772-8860.  Please note your dinner choice - Grilled Shrimp\, Bourbon Street Chicken\, or Pasta Primavera - when making your reservation.\n\n\n\nMeal Choices:\n\nGrilled Shrimp finished with a sweet chili glaze\n\nBourbon Street Chicken Pecan crusted\, finished with a Honey Bourbon Glaze \n\nPasta Primavera Saut ed Julienne Vegetables over Pasta with Marinara Sauce\n\n\n\nEach meal is accompanied by oven roasted potatoes\, seasonal veggies & Assorted Mousse for dessert
X-ALT-DESC;FMTTYPE=text/html:<div>The Greater Binghamton Education Outreach Program (GBEOP) will be holding the Graduation for the Broome Leadership Institute Class of 2021&nbsp\;at the Binghamton Country Club\, 1401 Robinson Hill Rd\, Endwell\, on Thursday\, March 25th from 6&nbsp\;PM - 9 PM.&nbsp\; &nbsp\;<strong>Due to NYS restrictions\, the in-person graduation will be limited to BLI Graduates and one guest.</strong>&nbsp\;The event will be live streamed at 7:15&nbsp\;PM via the Greater Binghamton Chamber&#39\;s Facebook page.<br />\n<br />\n<br />\nClass members RSVP to events@greaterbinghamtonchamber.com or&nbsp\;(607) 772-8860.&nbsp\; Please note your dinner choice - <em>Grilled Shrimp\, Bourbon Street Chicken\, or Pasta Primavera</em><i>&nbsp\;</i>- when making your reservation.<br />\n<br />\nMeal Choices:<br />\n<em>Grilled Shrimp finished with a sweet chili glaze<br />\nBourbon Street Chicken Pecan crusted\, finished with a Honey Bourbon Glaze&nbsp\;<br />\nPasta Primavera Saut&eacute\;ed Julienne Vegetables over Pasta with Marinara Sauce<br />\n<br />\nEach meal is accompanied by oven roasted potatoes\, seasonal veggies &amp\; Assorted Mousse for dessert</em></div>\n
LOCATION:Binghamton Country Club
UID:e.2872.7912
SEQUENCE:3
DTSTAMP:20260423T044427Z
URL:https://business.greaterbinghamtonchamber.com/events/details/bli-graduation-banquet-2021-7912
END:VEVENT

END:VCALENDAR
