BEGIN:VCALENDAR
VERSION:2.0
PRODID:-//ChamberMaster//Event Calendar 2.0//EN
METHOD:PUBLISH
X-PUBLISHED-TTL:P3D
REFRESH-INTERVAL:P3D
CALSCALE:GREGORIAN
BEGIN:VEVENT
DTSTART:20190326T153000Z
DTEND:20190326T170000Z
X-MICROSOFT-CDO-ALLDAYEVENT:FALSE
SUMMARY:BLI Alumni Leadership Update - STIC Xscapes
DESCRIPTION:Xscapes is a fundraiser for STIC and all of the funds go to help with STIC's mission of helping people in our community with various disabilities and supporting their independence. Get some friends together and book now on our website. \n\n \n\nWhat is an escape room? Your team will be placed in an adventure filled space and given a time limit to achieve the objectives. Work together as a team to solve the puzzles and clues\, and remember communication is the key to your success. \n\n\n\nRSVP by March 24
X-ALT-DESC;FMTTYPE=text/html:<span style="background:white\;"><span style="font-family:calibri\,sans-serif\;"><span style="font-size:14.0pt\;">Xscapes is a fundraiser for STIC and all of the funds go to help with STIC&#39\;s mission of helping people in our community with various disabilities and supporting their independence. Get some friends together and book now on our website. </span></span></span><br />\n&nbsp\;<br />\n<span style="background:white\;"><span style="font-family:calibri\,sans-serif\;"><span style="font-size:14.0pt\;">What is an escape room? Your team will be placed in an adventure filled space and given a time limit to achieve the objectives. Work together as a team to solve the puzzles and clues\, and remember communication is the key to your success. </span></span></span><br />\n<br />\nRSVP by March 24
LOCATION:Xscapes at STIC 135 East Frederick St Binghamton\, NY 13904 (Xscapes Entrance is at the corner of E. Frederick St and Ely St.) https://www.xscapes-stic.com/
UID:e.2872.3499
SEQUENCE:3
DTSTAMP:20260420T035320Z
URL:https://business.greaterbinghamtonchamber.com/events/details/bli-alumni-leadership-update-stic-xscapes-3499
END:VEVENT

END:VCALENDAR
