BEGIN:VCALENDAR
VERSION:2.0
PRODID:-//ChamberMaster//Event Calendar 2.0//EN
METHOD:PUBLISH
X-PUBLISHED-TTL:P3D
REFRESH-INTERVAL:P3D
CALSCALE:GREGORIAN
BEGIN:VEVENT
DTSTART:20241107T140000Z
DTEND:20241107T153000Z
X-MICROSOFT-CDO-ALLDAYEVENT:FALSE
SUMMARY:2024 Talent Development Series (Event 5)
DESCRIPTION:Limited spots available - please email Rachel to inquire about signing up rreed@greaterbinghamtonchamber.com\n\n\n\n\n\nJoin us for Event 5: Elevate Your Expertise\, the fifth session of our Talent Development Series\, dedicated to empowering your personal and professional growth. In this session\, we'll delve into crucial topics to enhance your expertise and effectiveness in various aspects of life and work.\n\n\n\nDiscover the importance of Mental Health First Aid\, equipping you with essential skills to support yourself and others during challenging times. Gain valuable insights into Conflict Management\, learning techniques to navigate difficult situations with grace and diplomacy. Additionally\, we'll explore the Value of Making Mistakes\, embracing failures as opportunities for growth and learning.\n\n\n\nDon't miss this opportunity to elevate your skills and expand your knowledge base. Join us for an enriching session filled with practical strategies and actionable takeaways to propel you towards success in both your personal and professional endeavors.
X-ALT-DESC;FMTTYPE=text/html:<span style="color:#A52A2A\;"><span style="font-size:24px\;"><strong>Limited spots available - please email Rachel to inquire about signing up rreed@greaterbinghamtonchamber.com</strong></span></span><br />\n<br />\n<br />\nJoin us for Event 5: <em>Elevate Your Expertise</em>\, the fifth session of our Talent Development Series\, dedicated to empowering your personal and professional growth. In this session\, we&#39\;ll delve into crucial topics to enhance your expertise and effectiveness in various aspects of life and work.<br />\n<br />\nDiscover the importance of Mental Health First Aid\, equipping you with essential skills to support yourself and others during challenging times. Gain valuable insights into Conflict Management\, learning techniques to navigate difficult situations with grace and diplomacy. Additionally\, we&#39\;ll explore the Value of Making Mistakes\, embracing failures as opportunities for growth and learning.<br />\n<br />\nDon&#39\;t miss this opportunity to elevate your skills and expand your knowledge base. Join us for an enriching session filled with practical strategies and actionable takeaways to propel you towards success in both your personal and professional endeavors.<br />\n&nbsp\;
LOCATION:Chamber of Commerce Office The Agency Conference Room - 2nd Floor 5 South College Drive Binghamton\, NY 13905
UID:e.2872.9338
SEQUENCE:3
DTSTAMP:20260422T111835Z
URL:https://business.greaterbinghamtonchamber.com/events/details/2024-talent-development-series-event-5-9338
END:VEVENT

END:VCALENDAR
