BEGIN:VCALENDAR
VERSION:2.0
PRODID:-//ChamberMaster//Event Calendar 2.0//EN
METHOD:PUBLISH
X-PUBLISHED-TTL:P3D
REFRESH-INTERVAL:P3D
CALSCALE:GREGORIAN
BEGIN:VEVENT
DTSTART:20230810T150000Z
DTEND:20230810T190000Z
X-MICROSOFT-CDO-ALLDAYEVENT:FALSE
SUMMARY:2023 Greater Binghamton Job & Career Fair
DESCRIPTION:2023 GREATER BINGHAMTON JOB AND CAREER FAIR \n\nREGISTERED COMPANIES AS OF AUGUST 7\, 2023\n ACHIEVE\n\n Amazon\n\n  Amrex Chemical Co.\, Inc.\n\n  Avangrid\n\n  BAE SYSTEMS\n\n  Bridgewater Rehabilitation & Nursing\n\n  Broome County Department of Social Services\n\n  Broome-Tioga Workforce\n\n  Chenango Valley CSD\n\n  Clinvet\n\n  CSL Plasma\n\n  D & R Technical Solutions\, Inc.\n\n  DICK'S Sporting Goods\n\n  Equinox Broadcasting\n\n  Excellus BCBS\n\n  Express Employment Professionals\n\n  FedEx Ground\n\n  Fox40-WICZ\n\n  Fresenius Medical Care\n\n  Getthere\, Rural Health Network of South Central NY\n\n  Good Shepherd Communities\n\n  Greater Binghamton Health Center\n\n  Helio Health\n\n  Helping Celebrate Abilities\n\n  iA\n\n  iM3NY\n\n  International Paper\n\n  Keller Williams Greater Binghamton\n\n  KeyBank\n\n  McFarland Johnson Inc.\n\n  Mercy House of the Southern Tier\n\n  Mirabito\n\n  NYS Department of Transportation\n\n  NYS Unified Court System\n\n  PFG\n\n  Samscreen\, Inc.\n\n  Saputo Cheese USA\n\n  Schaedler Yesco Distribution\n\n  Stafkings Healthcare and Stafkings Personnel\n\n  SUNY Broome Community College\n\n  Susquehanna Nursing & Rehabilitation Center\n\n  The Mid-York Press\, Inc.\n\n  The Raymond Corporation\n\n  Tioga State Bank\n\n  United Health Services Hospitals\n\n  Visions Federal Credit Union\n\n  WBNG-TV\n\n  Willow Run Foods\n\n  Wilson Dental
X-ALT-DESC;FMTTYPE=text/html:<strong><span style="font-size:16.0pt\;">2023 GREATER BINGHAMTON JOB AND CAREER FAIR </span></strong><br />\n<strong><span style="font-size:16.0pt\;">REGISTERED COMPANIES AS OF AUGUST 7\, 2023</span></strong>\n<div style="margin-bottom:0in\;"><span style="font-size:16px\;">&bull\;ACHIEVE<br />\n&bull\;Amazon<br />\n&bull\; Amrex Chemical Co.\, Inc.<br />\n&bull\; Avangrid<br />\n&bull\; BAE SYSTEMS<br />\n&bull\; Bridgewater Rehabilitation &amp\; Nursing<br />\n&bull\; Broome County Department of Social Services<br />\n&bull\; Broome-Tioga Workforce<br />\n&bull\; Chenango Valley CSD<br />\n&bull\; Clinvet<br />\n&bull\; CSL Plasma<br />\n&bull\; D &amp\; R Technical Solutions\, Inc.<br />\n&bull\; DICK&rsquo\;S Sporting Goods<br />\n&bull\; Equinox Broadcasting<br />\n&bull\; Excellus BCBS<br />\n&bull\; Express Employment Professionals<br />\n&bull\; FedEx Ground<br />\n&bull\; Fox40-WICZ<br />\n&bull\; Fresenius Medical Care<br />\n&bull\; Getthere\, Rural Health Network of South Central NY<br />\n&bull\; Good Shepherd Communities<br />\n&bull\; Greater Binghamton Health Center<br />\n&bull\; Helio Health<br />\n&bull\; Helping Celebrate Abilities<br />\n&bull\; iA<br />\n&bull\; iM3NY<br />\n&bull\; International Paper<br />\n&bull\; Keller Williams Greater Binghamton<br />\n&bull\; KeyBank<br />\n&bull\; McFarland Johnson Inc.<br />\n&bull\; Mercy House of the Southern Tier<br />\n&bull\; Mirabito<br />\n&bull\; NYS Department of Transportation<br />\n&bull\; NYS Unified Court System<br />\n&bull\; PFG<br />\n&bull\; Samscreen\, Inc.<br />\n&bull\; Saputo Cheese USA<br />\n&bull\; Schaedler Yesco Distribution<br />\n&bull\; Stafkings Healthcare and Stafkings Personnel<br />\n&bull\; SUNY Broome Community College<br />\n&bull\; Susquehanna Nursing &amp\; Rehabilitation Center<br />\n&bull\; The Mid-York Press\, Inc.<br />\n&bull\; The Raymond Corporation<br />\n&bull\; Tioga State Bank<br />\n&bull\; United Health Services Hospitals<br />\n&bull\; Visions Federal Credit Union<br />\n&bull\; WBNG-TV<br />\n&bull\; Willow Run Foods<br />\n&bull\; Wilson Dental</span></div>\n
LOCATION:SUNY Broome Ice Center 901 Upper Front Street Binghamton\, NY
UID:e.2872.8999
SEQUENCE:3
DTSTAMP:20260421T015811Z
URL:https://business.greaterbinghamtonchamber.com/events/details/2023-greater-binghamton-job-career-fair-8999
END:VEVENT

END:VCALENDAR
