BEGIN:VCALENDAR
VERSION:2.0
PRODID:-//ChamberMaster//Event Calendar 2.0//EN
METHOD:PUBLISH
X-PUBLISHED-TTL:P3D
REFRESH-INTERVAL:P3D
CALSCALE:GREGORIAN
BEGIN:VEVENT
DTSTART:20230720T210000Z
DTEND:20230721T000000Z
X-MICROSOFT-CDO-ALLDAYEVENT:FALSE
SUMMARY:2023 Annual Company Clambake
DESCRIPTION:If on-line registration is closed\, please contact Debby Evans directly at 607-296-2107\n\n\n\nYou bring the people\, we bring the party!\n\n\n\nMountain Top Grove is a beautiful outdoor setting to bring your clients\, your employees and their family members for a delicious buffet dinner that has something for everyone!\n\n\n\nDon't forget to wear your company apparel - prizes for the best team spirit!!\n\n\n\nPrice includes a delicious buffet dinner with Hard-shelled Clams (Raw & Steamed)\, Large Shelled Shrimp\, Charcoal Rib-Eye Steak Sandwiches\, Pulled Pork\, Roasted Pork\, Roasted Beef Sandwiches\, Hot & Sweet Sausage\, Grilled Hot Dogs and Hamburgers\, Fresh Salads & Watermelon\, Potatoes\, Soft Serve Ice Cream\, Soda\, Lemonade\, Iced Tea and Coffee\, Beer & Wine!\n\n\n\nBasket Raffles!
X-ALT-DESC;FMTTYPE=text/html:<p><span style="font-size:14px\;"><strong>If on-line registration is closed\, please contact Debby Evans directly at 607-296-2107</strong></span><br />\n<br />\nYou bring the people\, we bring the party!<br />\n<br />\nMountain Top Grove is a beautiful outdoor setting to bring your clients\, your employees and&nbsp\;their family members for a delicious buffet dinner that has something for everyone!<br />\n<br />\nDon&#39\;t forget to wear your company apparel - prizes for the best team spirit!!<br />\n<br />\nPrice includes a delicious buffet dinner with Hard-shelled Clams (Raw &amp\;&nbsp\;Steamed)\, Large Shelled Shrimp\, Charcoal Rib-Eye Steak Sandwiches\, Pulled Pork\, Roasted Pork\, Roasted Beef Sandwiches\, Hot &amp\; Sweet Sausage\, Grilled Hot Dogs and Hamburgers\, Fresh Salads &amp\; Watermelon\, Potatoes\, Soft Serve Ice Cream\, Soda\, Lemonade\, Iced Tea and Coffee\, Beer &amp\; Wine!<br />\n<br />\nBasket Raffles!<br />\n<br />\n<br />\n&nbsp\;</p>\n
LOCATION:Mountain Top Grove Clambakes
UID:e.2872.8997
SEQUENCE:3
DTSTAMP:20260421T015740Z
URL:https://business.greaterbinghamtonchamber.com/events/details/2023-annual-company-clambake-8997
END:VEVENT

END:VCALENDAR
