BEGIN:VCALENDAR
VERSION:2.0
PRODID:-//ChamberMaster//Event Calendar 2.0//EN
METHOD:PUBLISH
X-PUBLISHED-TTL:P3D
REFRESH-INTERVAL:P3D
CALSCALE:GREGORIAN
BEGIN:VEVENT
DTSTART:20180615T150000Z
DTEND:20180615T190000Z
X-MICROSOFT-CDO-ALLDAYEVENT:FALSE
SUMMARY:2018 Greater Binghamton Job & Career Fair
DESCRIPTION:Please call us directly at (607) 772-8860 to register.\n\n\n\nRegistration Includes:\n\n\n	Face to face contact with HUNDREDS of job seekers\n	A multi-media advertising campaign targeted at quality candidates\n	One large\, centrally located venue with dedicated space for employers and potential employees\n	Great location on bus line with excellent visibility\n	Exhibiting area with 8ft table\, tablecloth\, skirt & chairs. \n	Pizza and salad for lunch\; morning coffee and water.\n	Access to an ON-LINE RESUME DATABASE after the event.\n	Four solid event hours from mid-morning to late-afternoon to accommodate various job seekers' schedules\n\n\nNEW! Premier Booths - Chamber Members ($500)\n\nOnly 5 available - first come\, first serve\n\n\n	Prime booth placement front and center at Job & Career Fair\n	Facebook\, radio\, television and print ad campaigns for optimal job seeker reach\n	Dedicated Facebook ad targeted to showcase your company's open jobs\n	One month of posting your company's open jobs on Career Connection prior to Job & Career Fair\n	Use of private interview room\n	Two vouchers for lunch at American Dining Creations concession stand\n	8' table\, tablecloth\, skirting & chairs\n	Coffee\, water & snacks provided\n	Access to ON-LINE RESUME DATABASE after the event\n	Great location on bus line with excellent visibility\n\n\n\n\nBOOTH LOCATION BASED ON DATE OF REGISTRATION & PAYMENT. NO BOOTH WILL BE ASSIGNED UNTIL PAYMENT IS RECEIVED. ADVANCE REGISTRATION DEADLINE - JUNE 1 - BOOTH PRICING INCREASES AFTER JUNE 1.\n\n\n\n\n\nFull payment must be received by June 8\, 2018. Cancellations after June 8\, 2018 are non-refundable.
X-ALT-DESC;FMTTYPE=text/html:<p><strong><span style="color:#333333\;"><span style="font-family:arial\,sans-serif\;"><span style="font-size:18px\;">Please call us directly at (607) 772-8860 to register.</span><br />\n<br />\n<span style="font-size: 10pt\;">Registration Includes:</span></span></span></strong></p>\n\n<ul>\n	<li style="color:#333333\;line-height:normal\;"><span style="font-family:arial\,sans-serif\;"><span style="font-size:10.0pt\;">Face to face contact with&nbsp\;<strong>HUNDREDS</strong>&nbsp\;of job seekers</span></span></li>\n	<li style="color:#333333\;line-height:normal\;"><span style="font-family:arial\,sans-serif\;"><span style="font-size:10.0pt\;">A multi-media advertising campaign targeted at quality candidates</span></span></li>\n	<li style="color:#333333\;line-height:normal\;"><span style="font-family:arial\,sans-serif\;"><span style="font-size:10.0pt\;">One large\, centrally located venue with dedicated space for employers and potential employees</span></span></li>\n	<li style="color:#333333\;line-height:normal\;"><span style="font-family:arial\,sans-serif\;"><span style="font-size:10.0pt\;">Great location on bus line with excellent visibility</span></span></li>\n	<li style="color:#333333\;line-height:normal\;"><span style="font-family:arial\,sans-serif\;"><span style="font-size:10.0pt\;">Exhibiting area with&nbsp\;8ft&nbsp\;table\, tablecloth\, skirt &amp\; chairs. </span></span></li>\n	<li style="color:#333333\;line-height:normal\;"><span style="font-family:arial\,sans-serif\;"><span style="font-size:10.0pt\;">Pizza and salad for lunch\; morning coffee and&nbsp\;water.</span></span></li>\n	<li style="color:#333333\;line-height:normal\;"><span style="font-family:arial\,sans-serif\;"><span style="font-size:10.0pt\;">Access to an&nbsp\;<strong>ON-LINE RESUME DATABASE</strong>&nbsp\;after the event.</span></span></li>\n	<li style="color:#333333\;line-height:normal\;"><span style="font-family:arial\,sans-serif\;"><span style="font-size:10.0pt\;">Four solid event hours from mid-morning to late-afternoon to accommodate various job seekers&#39\; schedules</span></span></li>\n</ul>\n\n<div><strong><span style="color:#333333\;"><span style="font-family:arial\,sans-serif\;"><span style="font-size:10.0pt\;">NEW! Premier Booths - Chamber Members ($500)</span></span></span></strong><br />\n<span style="color:#333333\;"><span style="font-family:arial\,sans-serif\;"><span style="font-size:10.0pt\;"><em>Only 5 available - first come\, first serve</em></span></span></span></div>\n\n<ul>\n	<li style="color:#333333\;line-height:normal\;"><span style="font-family:arial\,sans-serif\;"><span style="font-size:10.0pt\;">Prime booth placement front and center at Job &amp\; Career Fair</span></span></li>\n	<li style="color:#333333\;line-height:normal\;"><span style="font-family:arial\,sans-serif\;"><span style="font-size:10.0pt\;">Facebook\, radio\, television and print ad campaigns for optimal job seeker reach</span></span></li>\n	<li style="color:#333333\;line-height:normal\;"><span style="font-family:arial\,sans-serif\;"><span style="font-size:10.0pt\;">Dedicated Facebook ad targeted to showcase your company&#39\;s open jobs</span></span></li>\n	<li style="color:#333333\;line-height:normal\;"><span style="font-family:arial\,sans-serif\;"><span style="font-size:10.0pt\;">One month of posting your company&#39\;s open jobs on Career Connection prior to Job &amp\; Career Fair</span></span></li>\n	<li style="color:#333333\;line-height:normal\;"><span style="font-family:arial\,sans-serif\;"><span style="font-size:10.0pt\;">Use of private interview room</span></span></li>\n	<li style="color:#333333\;line-height:normal\;"><span style="font-family:arial\,sans-serif\;"><span style="font-size:10.0pt\;">Two vouchers for lunch at American Dining Creations concession stand</span></span></li>\n	<li style="color:#333333\;line-height:normal\;"><span style="font-family:arial\,sans-serif\;"><span style="font-size:10.0pt\;">8&#39\; table\, tablecloth\, skirting &amp\; chairs</span></span></li>\n	<li style="color:#333333\;line-height:normal\;"><span style="font-family:arial\,sans-serif\;"><span style="font-size:10.0pt\;">Coffee\, water &amp\; snacks provided</span></span></li>\n	<li style="color:#333333\;line-height:normal\;"><span style="font-family:arial\,sans-serif\;"><span style="font-size:10.0pt\;">Access to&nbsp\;<strong>ON-LINE RESUME DATABASE&nbsp\;</strong>after the event</span></span></li>\n	<li style="color:#333333\;line-height:normal\;"><span style="font-family:arial\,sans-serif\;"><span style="font-size:10.0pt\;">Great location on bus line with excellent visibility</span></span></li>\n</ul>\n\n<p><br />\n<span style="color:#333333\;"><span style="font-family:arial\,sans-serif\;"><span style="font-size:10.0pt\;"><span style="background:white\;">BOOTH LOCATION BASED ON DATE OF REGISTRATION &amp\; PAYMENT. NO BOOTH WILL BE ASSIGNED UNTIL PAYMENT IS RECEIVED. ADVANCE REGISTRATION DEADLINE - JUNE 1 - BOOTH PRICING INCREASES AFTER JUNE 1.</span><br />\n<br />\n<br />\n<span style="background:white\;">Full payment must be received by June 8\, 2018. Cancellations after June 8\, 2018 are non-refundable.</span></span></span></span></p>\n
LOCATION:SUNY Broome Ice Center 901 Upper Front Street Binghamton\, NY
UID:e.2872.3167
SEQUENCE:3
DTSTAMP:20260424T222528Z
URL:https://business.greaterbinghamtonchamber.com/events/details/2018-greater-binghamton-job-career-fair-3167
END:VEVENT

END:VCALENDAR
